BEGIN:VCALENDAR
VERSION:2.0
PRODID:-//Squarespace Inc/Squarespace 6//v6//EN
BEGIN:VEVENT
UID:559caa7ee4b03b77d9cab8ef@squarespace.com
DTSTAMP:20161006T020926Z
DTSTART:20161014T203000Z
DTEND:20161014T230000Z
SUMMARY:Beginners Workshop
END:VEVENT
END:VCALENDAR
