BEGIN:VCALENDAR
VERSION:2.0
PRODID:-//Squarespace Inc/Squarespace 6//v6//EN
BEGIN:VEVENT
UID:559caadce4b069207f9163a4@squarespace.com
DTSTAMP:20161006T020036Z
DTSTART:20161015T010000Z
DTEND:20161015T040000Z
SUMMARY:Intermediate Workshop
END:VEVENT
END:VCALENDAR
