BEGIN:VCALENDAR
VERSION:2.0
PRODID:-//Squarespace Inc/Squarespace 6//v6//EN
BEGIN:VEVENT
UID:559caed1e4b0233f5294e000@squarespace.com
DTSTAMP:20160110T221314Z
DTSTART:20160408T213000Z
DTEND:20160409T003000Z
SUMMARY:Beginners Workshop
END:VEVENT
END:VCALENDAR
