BEGIN:VCALENDAR
VERSION:2.0
PRODID:-//Squarespace Inc/Squarespace 6//v6//EN
BEGIN:VEVENT
UID:559caf11e4b0d505f87e425c@squarespace.com
DTSTAMP:20161006T020743Z
DTSTART:20161015T193000Z
DTEND:20161015T223000Z
SUMMARY:Advanced Workshop
END:VEVENT
END:VCALENDAR
